BEGIN:VCALENDAR
VERSION:2.0
PRODID:-//Tukios.com/
BEGIN:VEVENT
UID:a6bb3f56-cc29-42f6-a6c0-c867748af35d@www.sunsetodessa.com
DTSTAMP:20260421T185007Z
DTSTART:20260425T160000Z
DTEND:20260425T170000Z
SUMMARY:Graveside Service
DESCRIPTION:
URL:https://www.sunsetodessa.com/obituaries/teresa-mcminn
LOCATION: 6801 E. Business 20  Odessa TX 79762
GEO:31.8183984;-102.2336281
END:VEVENT
END:VCALENDAR