BEGIN:VCALENDAR
VERSION:2.0
PRODID:-//Tukios.com/
BEGIN:VEVENT
UID:eef95796-f2b1-4edb-aa7f-85079a603dff@www.sunsetodessa.com
DTSTAMP:20260421T015922Z
DTSTART:20260423T180000Z
DTEND:20260423T190000Z
SUMMARY:Graveside Service
DESCRIPTION:
URL:https://www.sunsetodessa.com/obituaries/robert-lomax
LOCATION:Mount OIive Cemetery 1700 North Highway 350 North of Interstate 
	20  Big Spring TX 79720
GEO:32.2624618;-101.4551524
END:VEVENT
END:VCALENDAR