BEGIN:VCALENDAR
VERSION:2.0
PRODID:-//Tukios.com/
BEGIN:VEVENT
UID:1185aec7-7fb9-4f79-8bfb-e4b14cf66c0b@www.sunsetodessa.com
DTSTAMP:20260422T221453Z
DTSTART:20260425T180000Z
DTEND:20260425T190000Z
SUMMARY:Memorial Service
DESCRIPTION:
URL:https://www.sunsetodessa.com/obituaries/paula-teel
LOCATION: 6801 E. Business 20  Odessa TX 79762
GEO:31.8183984;-102.2336281
END:VEVENT
END:VCALENDAR