BEGIN:VCALENDAR
VERSION:2.0
PRODID:-//Tukios.com/
BEGIN:VEVENT
UID:c04a9dfa-0641-41ba-bade-cfa7c34ac5ca@www.sunsetodessa.com
DTSTAMP:20260422T221146Z
DTSTART:20260424T230000Z
DTEND:20260425T010000Z
SUMMARY:Visitation
DESCRIPTION:
URL:https://www.sunsetodessa.com/obituaries/paula-teel
LOCATION: 6801 E. Business 20  Odessa TX 79762
GEO:31.8183984;-102.2336281
END:VEVENT
END:VCALENDAR