BEGIN:VCALENDAR
VERSION:2.0
PRODID:-//Tukios.com/
BEGIN:VEVENT
UID:e0200d20-205d-4165-8f3c-e77027be2fff@www.sunsetodessa.com
DTSTAMP:20260421T232746Z
DTSTART:20260424T150000Z
DTEND:20260424T160000Z
SUMMARY:Funeral Service
DESCRIPTION:
URL:https://www.sunsetodessa.com/obituaries/forrest-mccleery
LOCATION: 6801 E. Business 20  Odessa TX 79762
GEO:31.8183984;-102.2336281
END:VEVENT
END:VCALENDAR