BEGIN:VCALENDAR
VERSION:2.0
PRODID:-//Tukios.com/
BEGIN:VEVENT
UID:6853409d-dc57-4328-bd5e-3f3b1171f24b@www.sunsetodessa.com
DTSTAMP:20260421T232312Z
DTSTART:20260423T230000Z
DTEND:20260424T010000Z
SUMMARY:Visitation
DESCRIPTION:
URL:https://www.sunsetodessa.com/obituaries/forrest-mccleery
LOCATION: 6801 E. Business 20  Odessa TX 79762
GEO:31.8183984;-102.2336281
END:VEVENT
END:VCALENDAR