BEGIN:VCALENDAR
VERSION:2.0
PRODID:-//Tukios.com/
BEGIN:VEVENT
UID:59ccdac9-b0d9-48e0-a995-dce68d1425ac@www.sunsetodessa.com
DTSTAMP:20260425T022102Z
DTSTART:20260502T160000Z
DTEND:20260502T173000Z
SUMMARY:Tours of the GardeN
DESCRIPTION:Following the memorial service at Stonegate Fellowship 
	Odessa, Debbie's Garden will be open for tours
URL:https://www.sunsetodessa.com/obituaries/deborah-frost
LOCATION:Debbie's Garden 2901 Palo Verde Dr  Odessa TX 79762
GEO:31.8870593;-102.3114343
END:VEVENT
END:VCALENDAR