BEGIN:VCALENDAR
VERSION:2.0
PRODID:-//Tukios.com/
BEGIN:VEVENT
UID:ae86ef6d-ac3a-4000-bfa0-1006837d8da7@www.sunsetodessa.com
DTSTAMP:20260425T021856Z
DTSTART:20260502T150000Z
DTEND:20260502T154500Z
SUMMARY:Memorial Service
DESCRIPTION:
URL:https://www.sunsetodessa.com/obituaries/deborah-frost
LOCATION: 4240 Preston Smith Rd  Odessa TX 79762
GEO:31.8981994;-102.3250252
END:VEVENT
END:VCALENDAR