BEGIN:VCALENDAR
VERSION:2.0
PRODID:-//Tukios.com/
BEGIN:VEVENT
UID:bb8afd2d-7c1e-4553-bae5-eb33aefe1039@www.sunsetodessa.com
DTSTAMP:20260425T022010Z
DTSTART:20260501T223000Z
DTEND:20260502T003000Z
SUMMARY:Visitation
DESCRIPTION:
URL:https://www.sunsetodessa.com/obituaries/deborah-frost
LOCATION: 4240 Preston Smith Rd  Odessa TX 79762
GEO:31.8981994;-102.3250252
END:VEVENT
END:VCALENDAR